BEGIN:VCALENDAR
VERSION:2.0
PRODID:-//Knowledge Quarter - ECPv6.6.4.2//NONSGML v1.0//EN
CALSCALE:GREGORIAN
METHOD:PUBLISH
X-ORIGINAL-URL:https://www.knowledgequarter.london
X-WR-CALDESC:Events for Knowledge Quarter
REFRESH-INTERVAL;VALUE=DURATION:PT1H
X-Robots-Tag:noindex
X-PUBLISHED-TTL:PT1H
BEGIN:VTIMEZONE
TZID:Europe/London
BEGIN:DAYLIGHT
TZOFFSETFROM:+0000
TZOFFSETTO:+0100
TZNAME:BST
DTSTART:20190331T010000
END:DAYLIGHT
BEGIN:STANDARD
TZOFFSETFROM:+0100
TZOFFSETTO:+0000
TZNAME:GMT
DTSTART:20191027T010000
END:STANDARD
END:VTIMEZONE
BEGIN:VEVENT
DTSTART;TZID=Europe/London:20190807T083000
DTEND;TZID=Europe/London:20190807T100000
DTSTAMP:20260424T222221
CREATED:20190702T120810Z
LAST-MODIFIED:20190702T120810Z
UID:18071-1565166600-1565172000@www.knowledgequarter.london
SUMMARY:KQ Private View: What Once Was Imagined
DESCRIPTION:Knowledge Quarter staff and friends are welcome to join our private breakfast view of What Once Was Imagined at the Royal College of General Practitioners. Enjoy privileged out-of-hours access to the exhibition in the company of lovely\, like-minded individuals living and working in the Knowledge Quarter. \nThousands of pills and medication cases exploring advances of modern medicine and changes in the management of common health conditions\, as well as the burden of pill-taking and dangers of over-medication\, are currently on display at 30 Euston Square as part of the latest art exhibition from the RCGP. What Once Was Imagined is the creation of long-time collaborators\, textile artist Susie Freeman and Bristol-based GP\, Dr Liz Lee – together known as Pharmacopoeia.  \nThe Royal College of General Practitioners is the professional membership body for GPs in the UK.  The RCGP represents and supports GPs on key issues including licensing\, education\, training\, research and clinical standards. It is the largest of the medical royal colleges\, with over 50\,000 members. \n  \nBook your ticket here
URL:https://www.knowledgequarter.london/event/kq-private-view-what-once-was-imagined/
LOCATION:Royal College of General Practitioners\, 30 Euston Square\, London\, NW1 2FB\, United Kingdom
CATEGORIES:Feature Event,KQ Events,Private Views,RCGP
ATTACH;FMTTYPE=image/jpeg:https://www.knowledgequarter.london/wp-content/uploads/2019/07/TK5D8101.jpg
END:VEVENT
BEGIN:VEVENT
DTSTART;VALUE=DATE:20190402
DTEND;VALUE=DATE:20190921
DTSTAMP:20260424T222221
CREATED:20190404T143932Z
LAST-MODIFIED:20190404T143932Z
UID:16343-1554163200-1569023999@www.knowledgequarter.london
SUMMARY:Catch your breath at the RCP
DESCRIPTION:Take a deep breath – how does it feel? What does it make you think? How many breaths have you taken today without even noticing?\nEveryone breathes. From a baby’s first cries to a dying gasp\, breath is an ever-present companion on the journey through life. Breathing isn’t just a biological process. It enables us to communicate\, to speak\, to create music. It can have deep cultural and spiritual meaning. It can be a marker of both health and illness. \nThrough objects\, visual\, sound\, interactive materials and events\, this exhibition will tell the story of how our relationship with and understanding of breathing has developed over time\, from ancient philosophers who equated breath with life itself to the latest advances in medicine. \nOpen Monday to Friday\, 9am–5pm. Check planned closure days before your visit.
URL:https://www.knowledgequarter.london/event/catch-your-breath-at-the-rcp/
LOCATION:Royal College of Physicians\, 11 St Andrew’s Place\, Regent’s Park\, London\,\, NW1 4LE\, United Kingdom
CATEGORIES:Feature Event,Partner Events,RCGP
ATTACH;FMTTYPE=image/png:https://www.knowledgequarter.london/wp-content/uploads/2019/04/catch-your-breath.png
END:VEVENT
END:VCALENDAR